BEGIN:VCALENDAR
VERSION:2.0
PRODID:-//arcofjacksoncoal.com//NONSGML kigkonsult.se iCalcreator 2.30.10//
CALSCALE:GREGORIAN
METHOD:PUBLISH
UID:a3fc1e17-ed7a-4257-9c68-38d0e302eda4
X-WR-CALDESC:
X-WR-RELCALID:d590d7e88da4191ee2596d96831fa72c
X-WR-TIMEZONE:America/Chicago
BEGIN:VTIMEZONE
TZID:America/Chicago
BEGIN:STANDARD
TZNAME:CST
DTSTART:20271107T020000
TZOFFSETFROM:-0500
TZOFFSETTO:-0600
RDATE:20281105T020000
END:STANDARD
BEGIN:DAYLIGHT
TZNAME:CDT
DTSTART:20280312T020000
TZOFFSETFROM:-0600
TZOFFSETTO:-0500
RDATE:20290311T020000
END:DAYLIGHT
END:VTIMEZONE
BEGIN:VEVENT
UID:e0efa8f4-7773-408d-99a6-de4a7541133d
DTSTAMP:20260424T145856Z
DESCRIPTION:
DTSTART;TZID=America/Chicago:20280321T180000
DTEND;TZID=America/Chicago:20280321T200000
LOCATION:
SUMMARY:Board of Directors Meeting
END:VEVENT
END:VCALENDAR
