BEGIN:VCALENDAR
VERSION:2.0
PRODID:-//arcofjacksoncoal.com//NONSGML kigkonsult.se iCalcreator 2.30.10//
CALSCALE:GREGORIAN
METHOD:PUBLISH
UID:433e1620-cb2a-4295-a638-882440f8736d
X-WR-CALDESC:
X-WR-RELCALID:c2e9b04d0447e754bfc3da82d49d9cb0
X-WR-TIMEZONE:America/Chicago
BEGIN:VTIMEZONE
TZID:America/Chicago
BEGIN:STANDARD
TZNAME:CST
DTSTART:20261101T020000
TZOFFSETFROM:-0500
TZOFFSETTO:-0600
RDATE:20271107T020000
RDATE:20281105T020000
END:STANDARD
BEGIN:DAYLIGHT
TZNAME:CDT
DTSTART:20270314T020000
TZOFFSETFROM:-0600
TZOFFSETTO:-0500
RDATE:20280312T020000
RDATE:20290311T020000
END:DAYLIGHT
END:VTIMEZONE
BEGIN:VEVENT
UID:0a859ce2-cbec-4e7d-ab3e-64227ca00d9c
DTSTAMP:20260423T084305Z
DESCRIPTION:
DTSTART;TZID=America/Chicago:20271019T180000
DTEND;TZID=America/Chicago:20271019T200000
LOCATION:
SUMMARY:Board of Directors Meeting
END:VEVENT
END:VCALENDAR
