BEGIN:VCALENDAR
VERSION:2.0
PRODID:-//arcofjacksoncoal.com//NONSGML kigkonsult.se iCalcreator 2.30.10//
CALSCALE:GREGORIAN
METHOD:PUBLISH
UID:26288cfe-a042-4930-8610-11de8a41e877
X-WR-CALDESC:
X-WR-RELCALID:03a7f7bfd22c4fabe364cb40018da0c7
X-WR-TIMEZONE:America/Chicago
BEGIN:VTIMEZONE
TZID:America/Chicago
BEGIN:STANDARD
TZNAME:CST
DTSTART:20261101T020000
TZOFFSETFROM:-0500
TZOFFSETTO:-0600
RDATE:20271107T020000
RDATE:20281105T020000
END:STANDARD
BEGIN:DAYLIGHT
TZNAME:CDT
DTSTART:20270314T020000
TZOFFSETFROM:-0600
TZOFFSETTO:-0500
RDATE:20280312T020000
RDATE:20290311T020000
END:DAYLIGHT
END:VTIMEZONE
BEGIN:VEVENT
UID:65282754-cf24-4565-9d84-c8c3ed1ede30
DTSTAMP:20260423T055118Z
DESCRIPTION:
DTSTART;TZID=America/Chicago:20270921T180000
DTEND;TZID=America/Chicago:20270921T200000
LOCATION:
SUMMARY:Board of Directors Meeting
END:VEVENT
END:VCALENDAR
