BEGIN:VCALENDAR
VERSION:2.0
PRODID:-//arcofjacksoncoal.com//NONSGML kigkonsult.se iCalcreator 2.30.10//
CALSCALE:GREGORIAN
METHOD:PUBLISH
UID:8b0adf9b-5700-4e91-8af7-d7c01e50d768
X-WR-CALDESC:
X-WR-RELCALID:79da05a481efedd83c66f952de6837cc
X-WR-TIMEZONE:America/Chicago
BEGIN:VTIMEZONE
TZID:America/Chicago
BEGIN:STANDARD
TZNAME:CST
DTSTART:20261101T020000
TZOFFSETFROM:-0500
TZOFFSETTO:-0600
RDATE:20271107T020000
RDATE:20281105T020000
END:STANDARD
BEGIN:DAYLIGHT
TZNAME:CDT
DTSTART:20270314T020000
TZOFFSETFROM:-0600
TZOFFSETTO:-0500
RDATE:20280312T020000
END:DAYLIGHT
END:VTIMEZONE
BEGIN:VEVENT
UID:62e2c3be-0b85-40cb-8c77-ce445a988d14
DTSTAMP:20260422T212343Z
DESCRIPTION:
DTSTART;TZID=America/Chicago:20270720T180000
DTEND;TZID=America/Chicago:20270720T200000
LOCATION:
SUMMARY:Board of Directors Meeting
END:VEVENT
END:VCALENDAR
