BEGIN:VCALENDAR
VERSION:2.0
PRODID:-//arcofjacksoncoal.com//NONSGML kigkonsult.se iCalcreator 2.30.10//
CALSCALE:GREGORIAN
METHOD:PUBLISH
UID:a795c71b-c884-42da-a116-250dfc2ece01
X-WR-CALDESC:
X-WR-RELCALID:be1ca390e1e3c77405c790aabceb2676
X-WR-TIMEZONE:America/Chicago
BEGIN:VTIMEZONE
TZID:America/Chicago
BEGIN:STANDARD
TZNAME:CST
DTSTART:20151101T020000
TZOFFSETFROM:-0500
TZOFFSETTO:-0600
RDATE:20161106T020000
END:STANDARD
BEGIN:DAYLIGHT
TZNAME:CDT
DTSTART:20150308T020000
TZOFFSETFROM:-0600
TZOFFSETTO:-0500
RDATE:20160313T020000
RDATE:20170312T020000
END:DAYLIGHT
END:VTIMEZONE
BEGIN:VEVENT
UID:78099324-b53b-40ac-8b55-903ed060928d
DTSTAMP:20260424T114249Z
DESCRIPTION:
DTSTART;TZID=America/Chicago:20151219T180000
DTEND;TZID=America/Chicago:20151219T200000
LOCATION:
SUMMARY:Winter Wonderland Ball @ the Goosepond Civic Center
END:VEVENT
END:VCALENDAR
