BEGIN:VCALENDAR
VERSION:2.0
PRODID:-//arcofjacksoncoal.com//NONSGML kigkonsult.se iCalcreator 2.30.10//
CALSCALE:GREGORIAN
METHOD:PUBLISH
UID:caf38572-6dfe-4d05-8fe3-6537623d6a9e
X-WR-CALDESC:
X-WR-RELCALID:fbd9ed5a24d8f53aca4191c11b54f4db
X-WR-TIMEZONE:America/Chicago
BEGIN:VTIMEZONE
TZID:America/Chicago
BEGIN:STANDARD
TZNAME:CST
DTSTART:20151101T020000
TZOFFSETFROM:-0500
TZOFFSETTO:-0600
RDATE:20161106T020000
END:STANDARD
BEGIN:DAYLIGHT
TZNAME:CDT
DTSTART:20150308T020000
TZOFFSETFROM:-0600
TZOFFSETTO:-0500
RDATE:20160313T020000
RDATE:20170312T020000
END:DAYLIGHT
END:VTIMEZONE
BEGIN:VEVENT
UID:5f4409e7-fa37-4e4d-9668-113b2ea538da
DTSTAMP:20260424T114709Z
DESCRIPTION:
DTSTART;TZID=America/Chicago:20151218T233000
DTEND;TZID=America/Chicago:20151219T020000
LOCATION:
SUMMARY:Christmas Luncheon @ 1st United Methodist Church
END:VEVENT
END:VCALENDAR
