BEGIN:VCALENDAR
VERSION:2.0
PRODID:-//arcofjacksoncoal.com//NONSGML kigkonsult.se iCalcreator 2.30.10//
CALSCALE:GREGORIAN
METHOD:PUBLISH
UID:0e70b485-a62e-46e8-b099-50a6f10a067e
X-WR-CALDESC:
X-WR-RELCALID:be1cc9a52178fe5e23b6db214450a032
X-WR-TIMEZONE:America/Chicago
BEGIN:VTIMEZONE
TZID:America/Chicago
BEGIN:STANDARD
TZNAME:CST
DTSTART:20151101T020000
TZOFFSETFROM:-0500
TZOFFSETTO:-0600
RDATE:20161106T020000
END:STANDARD
BEGIN:DAYLIGHT
TZNAME:CDT
DTSTART:20150308T020000
TZOFFSETFROM:-0600
TZOFFSETTO:-0500
RDATE:20160313T020000
RDATE:20170312T020000
END:DAYLIGHT
END:VTIMEZONE
BEGIN:VEVENT
UID:3a3f89af-1669-4564-9594-d65db7afe9b2
DTSTAMP:20260424T131954Z
DESCRIPTION:
DTSTART;TZID=America/Chicago:20151124T113000
DTEND;TZID=America/Chicago:20151124T130000
LOCATION:
SUMMARY:Faith Covenant Thanksgiving Luncheon
END:VEVENT
END:VCALENDAR
