BEGIN:VCALENDAR
VERSION:2.0
PRODID:-//arcofjacksoncoal.com//NONSGML kigkonsult.se iCalcreator 2.30.10//
CALSCALE:GREGORIAN
METHOD:PUBLISH
UID:a174b5fe-9b9e-429e-aded-ff63ff3eb714
X-WR-CALDESC:
X-WR-RELCALID:2f14455a96be37b2db75f62f799097fb
X-WR-TIMEZONE:America/Chicago
BEGIN:VTIMEZONE
TZID:America/Chicago
BEGIN:STANDARD
TZNAME:CST
DTSTART:20151101T020000
TZOFFSETFROM:-0500
TZOFFSETTO:-0600
RDATE:20161106T020000
END:STANDARD
BEGIN:DAYLIGHT
TZNAME:CDT
DTSTART:20150308T020000
TZOFFSETFROM:-0600
TZOFFSETTO:-0500
RDATE:20160313T020000
RDATE:20170312T020000
END:DAYLIGHT
END:VTIMEZONE
BEGIN:VEVENT
UID:705a68a8-3fcc-46ee-aafa-e69e4e671633
DTSTAMP:20260424T132530Z
DESCRIPTION:
DTSTART;TZID=America/Chicago:20151107T090000
DTEND;TZID=America/Chicago:20151107T110000
LOCATION:
SUMMARY:Cobbler Gobbler 5K Run
END:VEVENT
END:VCALENDAR
